BEGIN:VCALENDAR
VERSION:2.0
PRODID:-//Peepul Enterprise - ECPv4.6.10.1//NONSGML v1.0//EN
CALSCALE:GREGORIAN
METHOD:PUBLISH
X-WR-CALNAME:Peepul Enterprise
X-ORIGINAL-URL:https://peepulenterprise.com
X-WR-CALDESC:Events for Peepul Enterprise
BEGIN:VEVENT
DTSTART;TZID=Europe/London:20251127T190000
DTEND;TZID=Europe/London:20251127T220000
DTSTAMP:20260421T084424
CREATED:20250828T183431Z
LAST-MODIFIED:20250926T154155Z
UID:3441-1764270000-1764280800@peepulenterprise.com
SUMMARY:SOS CHARITY FASHION SHOW
DESCRIPTION:SOS Charity Fashion Show\nJoin us for an exclusive evening of high fashion\, showcasing the latest trends from top high-street designers – all in support of EVAW: UN 16 Days of Activism to End Violence Against Women and Girls.\nPeepul Centre\, Leicester\, LE4 6DP  – Thursday 27th November 2025 – Book your tickets now: SOS Charity Fashion Show \n \n
URL:https://peepulenterprise.com/event/sos-charity-fashion-show/
ATTACH;FMTTYPE=image/jpeg:https://peepulenterprise.com/wp-content/uploads/2025/08/WhatsApp-Image-2025-09-23-at-12.09.53-PM.jpeg
END:VEVENT
END:VCALENDAR