BEGIN:VCALENDAR
VERSION:2.0
PRODID:-//Peepul Enterprise - ECPv4.6.10.1//NONSGML v1.0//EN
CALSCALE:GREGORIAN
METHOD:PUBLISH
X-WR-CALNAME:Peepul Enterprise
X-ORIGINAL-URL:http://peepulenterprise.com
X-WR-CALDESC:Events for Peepul Enterprise
BEGIN:VEVENT
DTSTART;TZID=Europe/London:20181201T200000
DTEND;TZID=Europe/London:20181201T230000
DTSTAMP:20260425T031049
CREATED:20181126T105159Z
LAST-MODIFIED:20181128T152156Z
UID:1878-1543694400-1543705200@peepulenterprise.com
SUMMARY:GUZRA HUA ZAMANA
DESCRIPTION:SOLD OUT!\n  \nMelodious Musical Evening To Refresh Your Memory With The Superhit Songs of The Yesteryears. Anila GOHIL\, Along With Some Fresh Talented Singers Dipanjan Basu\, Indrani Datta\, Digvijay Jhala Will Entertain You With Songs \, Accompanied By Full Orchestra Consisting Of UK’s Six Renowned & Famous Musicians You Rarely Get To Listen Live On The Stage. The Evening Will Be Full of Songs Sung By The Legends\, Lata ji\, Asha ji\, Rafisaab\, Mukesh ji\, Hemant kumar ji \, shamshad Begum\, Noorjahan ji\, Geetadutt ji and Many Many More . “ GUZRA HUA ZAMANA” An EveninG Of Nostalgic Music A Complete Treat To Your Ears\, And Hence A SHOW NOT TO BE MISSED For Sure. \nPlease contact MR B for tickets on 07860280655 \n
URL:http://peepulenterprise.com/event/guzra-hua-zamana/
LOCATION:Orchardson Avenue\, Leicester\, LE4 6DP\, United Kingdom
ATTACH;FMTTYPE=image/jpeg:http://peepulenterprise.com/wp-content/uploads/2018/11/46741297_1982507778495029_1385639918084030464_n.jpg
END:VEVENT
END:VCALENDAR