BEGIN:VCALENDAR
VERSION:2.0
PRODID:-//Peepul Enterprise - ECPv4.6.10.1//NONSGML v1.0//EN
CALSCALE:GREGORIAN
METHOD:PUBLISH
X-WR-CALNAME:Peepul Enterprise
X-ORIGINAL-URL:http://peepulenterprise.com
X-WR-CALDESC:Events for Peepul Enterprise
BEGIN:VEVENT
DTSTART;TZID=Europe/London:20181214T120000
DTEND;TZID=Europe/London:20181214T160000
DTSTAMP:20260425T031255
CREATED:20181202T152242Z
LAST-MODIFIED:20181202T152242Z
UID:1884-1544788800-1544803200@peepulenterprise.com
SUMMARY:Disability Sports and Inclusive Fitness
DESCRIPTION:Disability Sports and Inclusive Fitness \nYou may have heard of Wheelchair Basketball\, Tennis and Racing. \nBut what about Boccia? \nIf you want to find out more then join us for a free tasters session. \nAll are welcomed. \nDate: 14th December 2018 \nTime: 12pm – 4pm \nFree Entry \n
URL:http://peepulenterprise.com/event/disability-sports-and-inclusive-fitness-6/
LOCATION:Orchardson Avenue\, Leicester\, LE4 6DP\, United Kingdom
ATTACH;FMTTYPE=image/jpeg:http://peepulenterprise.com/wp-content/uploads/2018/12/Disability-Sports-Dec2018.jpg
END:VEVENT
END:VCALENDAR