BEGIN:VCALENDAR
VERSION:2.0
PRODID:-//Peepul Enterprise - ECPv4.6.10.1//NONSGML v1.0//EN
CALSCALE:GREGORIAN
METHOD:PUBLISH
X-WR-CALNAME:Peepul Enterprise
X-ORIGINAL-URL:http://peepulenterprise.com
X-WR-CALDESC:Events for Peepul Enterprise
BEGIN:VEVENT
DTSTART;VALUE=DATE:20161205
DTEND;VALUE=DATE:20161224
DTSTAMP:20260425T030356
CREATED:20161006T164323Z
LAST-MODIFIED:20161123T140055Z
UID:1252-1480896000-1482537599@peepulenterprise.com
SUMMARY:Cinderella Christmas Pantomime
DESCRIPTION:Pyramid Pantomimes & Peepul Enterprise proudly presents\nCINDERELLA\nFollowing last year’s hugely successful production of ‘Aladdin’\, we are proud to present ‘Cinderella’!\nPacked full of fun\, audience participation and songs to get you singing along\, children and grown-ups alike will love this traditional pantomime with a modern twist! \nThe best value Panto in Leicester! \nTICKETS: \nFamily Ticket of 4 ONLY £31\nLIMITED OFFER ONLY UNTIL\n3RD DECEMBER 2016*\n*Ts&Cs Apply\, Subject to availability. \nSchools Performances –  £8\n(Buy 10 Get 1 Free Teacher Ticket) \n5th December: 10am & 1pm\n6th December: 10am & 1pm\n7th December: 10am & 1pm\n8th December: 10am & 1pm\n9th December: 10am & 1pm\n12th December: 10am & 1pm\n13th December: 10am (Sold Out) & 1pm (Tickets Still Available)\n14th December: 10am & 1pm\n15th December: 10am (Sold Out) & 1pm\n16th December: 10am & 6pm \nPublic Shows (Adults & Children) – £8.50 \n10th December: 1pm\n17th December: 6pm\n18th December: 6pm\n19th December: 6pm\n20th December: 6pm\n21st December: 6pm\n22nd December: 6pm\n23rd December: 6pm \nTickets: £8.50 each\nDates: 5th December to 23rd December 2016 \nBOOK YOUR TICKETS NOW! \nFor all booking enquiries please contact our box office on 0116 2616000 \n
URL:http://peepulenterprise.com/event/cinderella-christmas-pantomime-2/
LOCATION:Orchardson Avenue\, Leicester\, LE4 6DP\, United Kingdom
ATTACH;FMTTYPE=image/png:http://peepulenterprise.com/wp-content/uploads/2016/10/image002.png
END:VEVENT
END:VCALENDAR